BEGIN:VCALENDAR
VERSION:2.0
PRODID:-//Sabre//Sabre VObject 4.5.8//EN
CALSCALE:GREGORIAN
BEGIN:VEVENT
UID:sabre-vobject-7284301e-9fd9-4034-ad89-3a03c5eed4d4
DTSTAMP:20260423T205015Z
SUMMARY:Parents' Night Out: CYS Extended Care!
DESCRIPTION:Give yourself a kid-free evening to tackle that holiday to-do-l
 ist - CYS has you covered!\n
X-ALT-DESC:FMTTYPE=text/html:<!DOCTYPE HTML PUBLIC "-//W3C//DTD HTML 3.2//E
 N"><HTML><p>Give yourself a kid-free evening to tackle that holiday to-do-
 list - CYS has you covered!</p>\n</HTML>
CREATED;TZID=Asia/Tokyo:20251117T134738
URL;VALUE=URI:https://zama.armymwr.com/calendar/event
DTSTART;TZID=Asia/Tokyo:20251219T183000
DTEND;TZID=Asia/Tokyo:20251219T000000
SEQUENCE:0
END:VEVENT
END:VCALENDAR
