BEGIN:VCALENDAR
VERSION:2.0
PRODID:-//Sabre//Sabre VObject 4.5.8//EN
CALSCALE:GREGORIAN
BEGIN:VEVENT
UID:sabre-vobject-d4d0aa94-89b1-4f75-802c-1b63b0294d20
DTSTAMP:20260422T081000Z
SUMMARY:Thursday Night Mixed Bowling League
DESCRIPTION:@ Zama Bowling Center\n
X-ALT-DESC:FMTTYPE=text/html:<!DOCTYPE HTML PUBLIC "-//W3C//DTD HTML 3.2//E
 N"><HTML><p>@ Zama Bowling Center</p>\n</HTML>
CREATED;TZID=Asia/Tokyo:20260108T155542
URL;VALUE=URI:https://zama.armymwr.com/calendar/event
DTSTART;TZID=Asia/Tokyo:20260122T180000
DTEND;TZID=Asia/Tokyo:20260122T190000
SEQUENCE:0
END:VEVENT
END:VCALENDAR
