BEGIN:VCALENDAR
VERSION:2.0
PRODID:-//Sabre//Sabre VObject 4.5.8//EN
CALSCALE:GREGORIAN
BEGIN:VEVENT
UID:sabre-vobject-9866b5e5-a764-40ae-a7f8-15d0283e4f3b
DTSTAMP:20260423T015928Z
SUMMARY:Bowling and Brews
DESCRIPTION:@ Zama Bowling Center\n
X-ALT-DESC:FMTTYPE=text/html:<!DOCTYPE HTML PUBLIC "-//W3C//DTD HTML 3.2//E
 N"><HTML><p>@ Zama Bowling Center</p>\n</HTML>
CREATED;TZID=Asia/Tokyo:20260421T080024
URL;VALUE=URI:https://zama.armymwr.com/calendar/event
DTSTART;TZID=Asia/Tokyo:20260605T170000
DTEND;TZID=Asia/Tokyo:20260605T210000
SEQUENCE:0
END:VEVENT
END:VCALENDAR
