BEGIN:VCALENDAR
VERSION:2.0
PRODID:-//Sabre//Sabre VObject 4.5.8//EN
CALSCALE:GREGORIAN
BEGIN:VEVENT
UID:sabre-vobject-fdcaeee1-01f6-46a2-855a-615d1bdd49a6
DTSTAMP:20260422T031430Z
SUMMARY:Father's Day Custom Throw Pillow @ Camp Zama Arts & Crafts Center
DESCRIPTION:Craft the Perfect Father&#39\;s Day Gift!\n
X-ALT-DESC:FMTTYPE=text/html:<!DOCTYPE HTML PUBLIC "-//W3C//DTD HTML 3.2//E
 N"><HTML><p>Craft the Perfect Father&#39\;s Day Gift!</p>\n</HTML>
CREATED;TZID=Asia/Tokyo:20260421T114507
URL;VALUE=URI:https://zama.armymwr.com/calendar/event
DTSTART;TZID=Asia/Tokyo:20260515T000000
DTEND;TZID=Asia/Tokyo:20260515T235959
SEQUENCE:0
END:VEVENT
END:VCALENDAR
