BEGIN:VCALENDAR
VERSION:2.0
PRODID:-//Sabre//Sabre VObject 4.5.8//EN
CALSCALE:GREGORIAN
BEGIN:VEVENT
UID:sabre-vobject-97269059-9caa-4a64-ba9c-6466bcb0346c
DTSTAMP:20260420T140510Z
SUMMARY:No-Tap Bowling Tournament
DESCRIPTION:
X-ALT-DESC:FMTTYPE=text/html:<!DOCTYPE HTML PUBLIC "-//W3C//DTD HTML 3.2//E
 N"><HTML></HTML>
CREATED;TZID=Asia/Tokyo:20180821T095022
URL;VALUE=URI:https://zama.armymwr.com/calendar/event
DTSTART;TZID=Asia/Tokyo:20180929T120000
DTEND;TZID=Asia/Tokyo:20180929T130000
SEQUENCE:0
END:VEVENT
END:VCALENDAR
