BEGIN:VCALENDAR
VERSION:2.0
PRODID:-//Sabre//Sabre VObject 4.5.8//EN
CALSCALE:GREGORIAN
BEGIN:VEVENT
UID:sabre-vobject-54b8f83c-2c48-4898-83c5-ce3eacf24478
DTSTAMP:20260420T113621Z
SUMMARY:Shelter in Place Drill
DESCRIPTION:
X-ALT-DESC:FMTTYPE=text/html:<!DOCTYPE HTML PUBLIC "-//W3C//DTD HTML 3.2//E
 N"><HTML></HTML>
CREATED;TZID=Asia/Tokyo:20200723T145435
URL;VALUE=URI:https://zama.armymwr.com/calendar/event
DTSTART;TZID=Asia/Tokyo:20200728T160000
DTEND;TZID=Asia/Tokyo:20200729T180000
SEQUENCE:0
END:VEVENT
END:VCALENDAR
