BEGIN:VCALENDAR
VERSION:2.0
PRODID:-//Sabre//Sabre VObject 4.5.8//EN
CALSCALE:GREGORIAN
BEGIN:VEVENT
UID:sabre-vobject-6b1596b3-e7ee-49b6-b89a-38a6c3df4fc8
DTSTAMP:20260426T013857Z
SUMMARY: Hidaka Sightseeing
DESCRIPTION:New Tour!\n
X-ALT-DESC:FMTTYPE=text/html:<!DOCTYPE HTML PUBLIC "-//W3C//DTD HTML 3.2//E
 N"><HTML><p>New Tour!</p>\n</HTML>
CREATED;TZID=Asia/Tokyo:20220804T124354
URL;VALUE=URI:https://zama.armymwr.com/calendar/event
DTSTART;TZID=Asia/Tokyo:20220917T073000
DTEND;TZID=Asia/Tokyo:20220917T160000
SEQUENCE:0
END:VEVENT
END:VCALENDAR
