BEGIN:VCALENDAR
VERSION:2.0
PRODID:-//Sabre//Sabre VObject 4.5.8//EN
CALSCALE:GREGORIAN
BEGIN:VEVENT
UID:sabre-vobject-14ac0b4c-f252-4f38-a2c9-624cc58a02c1
DTSTAMP:20260425T035631Z
SUMMARY:Nezame-no-Toko & Magome-juku
DESCRIPTION:
X-ALT-DESC:FMTTYPE=text/html:<!DOCTYPE HTML PUBLIC "-//W3C//DTD HTML 3.2//E
 N"><HTML></HTML>
CREATED;TZID=Asia/Tokyo:20220907T131634
URL;VALUE=URI:https://zama.armymwr.com/calendar/event
DTSTART;TZID=Asia/Tokyo:20221002T060000
DTEND;TZID=Asia/Tokyo:20221002T200000
SEQUENCE:0
END:VEVENT
END:VCALENDAR
