BEGIN:VCALENDAR
VERSION:2.0
PRODID:-//Sabre//Sabre VObject 4.5.8//EN
CALSCALE:GREGORIAN
BEGIN:VEVENT
UID:sabre-vobject-4bd5115d-bd72-4d01-a5f7-8320ab64e378
DTSTAMP:20260424T210051Z
SUMMARY:Ultimate Frisbee Tournament
DESCRIPTION:@ Yano Filed&nbsp\; &nbsp\;(Commanders Cup Event)\n
X-ALT-DESC:FMTTYPE=text/html:<!DOCTYPE HTML PUBLIC "-//W3C//DTD HTML 3.2//E
 N"><HTML><p>@ Yano Filed&nbsp\; &nbsp\;(Commanders Cup Event)</p>\n</HTML>
CREATED;TZID=Asia/Tokyo:20220928T093532
URL;VALUE=URI:https://zama.armymwr.com/calendar/event
DTSTART;TZID=Asia/Tokyo:20221015T090000
DTEND;TZID=Asia/Tokyo:20221015T100000
SEQUENCE:0
END:VEVENT
END:VCALENDAR
