BEGIN:VCALENDAR
VERSION:2.0
PRODID:-//Sabre//Sabre VObject 4.5.8//EN
CALSCALE:GREGORIAN
BEGIN:VEVENT
UID:sabre-vobject-16b8c1d6-7164-413c-a2c4-d66f3772f379
DTSTAMP:20260425T214514Z
SUMMARY:Ikebana Workshop (Japanese Flower Arrangement
DESCRIPTION:@ Arts &amp\; Crafts Center\n
X-ALT-DESC:FMTTYPE=text/html:<!DOCTYPE HTML PUBLIC "-//W3C//DTD HTML 3.2//E
 N"><HTML><p>@ Arts &amp\; Crafts Center</p>\n</HTML>
CREATED;TZID=Asia/Tokyo:20221004T130344
URL;VALUE=URI:https://zama.armymwr.com/calendar/event
DTSTART;TZID=Asia/Tokyo:20221022T093000
DTEND;TZID=Asia/Tokyo:20221022T120000
SEQUENCE:0
END:VEVENT
END:VCALENDAR
