BEGIN:VCALENDAR
VERSION:2.0
PRODID:-//Sabre//Sabre VObject 4.5.8//EN
CALSCALE:GREGORIAN
BEGIN:VEVENT
UID:sabre-vobject-277c10fb-344a-4822-ad9e-a5a3475b5440
DTSTAMP:20260423T192706Z
SUMMARY:ROCK'N'ROLL ZaCSA 16th Annual Scholarship Auction
DESCRIPTION:@Camp Zama Community Ballroom\n\n&nbsp\;\n
X-ALT-DESC:FMTTYPE=text/html:<!DOCTYPE HTML PUBLIC "-//W3C//DTD HTML 3.2//E
 N"><HTML><p>@Camp Zama Community Ballroom</p>\n\n<p>&nbsp\;</p>\n</HTML>
CREATED;TZID=Asia/Tokyo:20221017T102358
URL;VALUE=URI:https://zama.armymwr.com/calendar/event
DTSTART;TZID=Asia/Tokyo:20221105T180000
DTEND;TZID=Asia/Tokyo:20221105T220000
SEQUENCE:0
END:VEVENT
END:VCALENDAR
