BEGIN:VCALENDAR
VERSION:2.0
PRODID:-//Sabre//Sabre VObject 4.5.8//EN
CALSCALE:GREGORIAN
BEGIN:VEVENT
UID:sabre-vobject-5068acb3-3199-440b-b691-949cf2b1a3d9
DTSTAMP:20260423T105802Z
SUMMARY:Kellie Pickler
DESCRIPTION:American Idol Alumni\, singer/songwriter and television persona
 lity\n
X-ALT-DESC:FMTTYPE=text/html:<!DOCTYPE HTML PUBLIC "-//W3C//DTD HTML 3.2//E
 N"><HTML><p>American Idol Alumni\, singer/songwriter and television person
 ality</p>\n</HTML>
CREATED;TZID=Asia/Tokyo:20221017T110315
URL;VALUE=URI:https://zama.armymwr.com/calendar/event
DTSTART;TZID=Asia/Tokyo:20221111T190000
DTEND;TZID=Asia/Tokyo:20221111T220000
SEQUENCE:0
END:VEVENT
END:VCALENDAR
