BEGIN:VCALENDAR
VERSION:2.0
PRODID:-//Sabre//Sabre VObject 4.5.8//EN
CALSCALE:GREGORIAN
BEGIN:VEVENT
UID:sabre-vobject-5221b0e4-0fa6-413d-8661-5359456ad852
DTSTAMP:20260424T060047Z
SUMMARY:Shosenkyo Hiking
DESCRIPTION:
X-ALT-DESC:FMTTYPE=text/html:<!DOCTYPE HTML PUBLIC "-//W3C//DTD HTML 3.2//E
 N"><HTML></HTML>
CREATED;TZID=Asia/Tokyo:20221018T120232
URL;VALUE=URI:https://zama.armymwr.com/calendar/event
DTSTART;TZID=Asia/Tokyo:20221105T063000
DTEND;TZID=Asia/Tokyo:20221105T153000
SEQUENCE:0
END:VEVENT
END:VCALENDAR
