BEGIN:VCALENDAR
VERSION:2.0
PRODID:-//Sabre//Sabre VObject 4.5.8//EN
CALSCALE:GREGORIAN
BEGIN:VEVENT
UID:sabre-vobject-b6bdcb30-e16b-4e68-af5f-7fb791f8d883
DTSTAMP:20260423T223224Z
SUMMARY:Kasama Pottery Fest & Sightseeing
DESCRIPTION:
X-ALT-DESC:FMTTYPE=text/html:<!DOCTYPE HTML PUBLIC "-//W3C//DTD HTML 3.2//E
 N"><HTML></HTML>
CREATED;TZID=Asia/Tokyo:20221018T113700
URL;VALUE=URI:https://zama.armymwr.com/calendar/event
DTSTART;TZID=Asia/Tokyo:20221106T060000
DTEND;TZID=Asia/Tokyo:20221106T190000
SEQUENCE:0
END:VEVENT
END:VCALENDAR
