BEGIN:VCALENDAR
VERSION:2.0
PRODID:-//Sabre//Sabre VObject 4.5.8//EN
CALSCALE:GREGORIAN
BEGIN:VEVENT
UID:sabre-vobject-a9d6ab32-eb73-4bc4-a162-1154ad2d0e5c
DTSTAMP:20260423T094243Z
SUMMARY:Ashikaga Flower Park Illumination
DESCRIPTION:
X-ALT-DESC:FMTTYPE=text/html:<!DOCTYPE HTML PUBLIC "-//W3C//DTD HTML 3.2//E
 N"><HTML></HTML>
CREATED;TZID=Asia/Tokyo:20221018T114058
URL;VALUE=URI:https://zama.armymwr.com/calendar/event
DTSTART;TZID=Asia/Tokyo:20221111T110000
DTEND;TZID=Asia/Tokyo:20221111T213000
SEQUENCE:0
END:VEVENT
END:VCALENDAR
