BEGIN:VCALENDAR
VERSION:2.0
PRODID:-//Sabre//Sabre VObject 4.5.8//EN
CALSCALE:GREGORIAN
BEGIN:VEVENT
UID:sabre-vobject-1cba020a-c678-4396-a92f-395582f561d0
DTSTAMP:20260423T122054Z
SUMMARY:Discover World Heritage
DESCRIPTION:Shirakawago &amp\; Hida Takayama\n
X-ALT-DESC:FMTTYPE=text/html:<!DOCTYPE HTML PUBLIC "-//W3C//DTD HTML 3.2//E
 N"><HTML><p>Shirakawago &amp\; Hida Takayama</p>\n</HTML>
CREATED;TZID=Asia/Tokyo:20221018T114400
URL;VALUE=URI:https://zama.armymwr.com/calendar/event
DTSTART;TZID=Asia/Tokyo:20221112T040000
DTEND;TZID=Asia/Tokyo:20221112T230000
SEQUENCE:0
END:VEVENT
END:VCALENDAR
