BEGIN:VCALENDAR
VERSION:2.0
PRODID:-//Sabre//Sabre VObject 4.5.8//EN
CALSCALE:GREGORIAN
BEGIN:VEVENT
UID:sabre-vobject-863244cc-7e6e-4e9c-80e2-c59a130b9d8a
DTSTAMP:20260420T230959Z
SUMMARY:Hamamatsu Sightseeing & Night Illumination
DESCRIPTION:Outdoor Recreation &amp\; Leisure Travel Services\n
X-ALT-DESC:FMTTYPE=text/html:<!DOCTYPE HTML PUBLIC "-//W3C//DTD HTML 3.2//E
 N"><HTML><p>Outdoor Recreation &amp\; Leisure Travel Services</p>\n</HTML>
CREATED;TZID=Asia/Tokyo:20221215T084828
URL;VALUE=URI:https://zama.armymwr.com/calendar/event
DTSTART;TZID=Asia/Tokyo:20221226T070000
DTEND;TZID=Asia/Tokyo:20221226T223000
SEQUENCE:0
END:VEVENT
END:VCALENDAR
