BEGIN:VCALENDAR
VERSION:2.0
PRODID:-//Sabre//Sabre VObject 4.5.8//EN
CALSCALE:GREGORIAN
BEGIN:VEVENT
UID:sabre-vobject-fdac16d2-7b76-4e4f-a7d1-7cc14f047df7
DTSTAMP:20260420T213812Z
SUMMARY:Gingerbread Run
DESCRIPTION:@ SHA\n
X-ALT-DESC:FMTTYPE=text/html:<!DOCTYPE HTML PUBLIC "-//W3C//DTD HTML 3.2//E
 N"><HTML><p>@ SHA</p>\n</HTML>
CREATED;TZID=Asia/Tokyo:20221215T095752
URL;VALUE=URI:https://zama.armymwr.com/calendar/event
DTSTART;TZID=Asia/Tokyo:20221221T173000
DTEND;TZID=Asia/Tokyo:20221221T190000
SEQUENCE:0
END:VEVENT
END:VCALENDAR
