BEGIN:VCALENDAR
VERSION:2.0
PRODID:-//Sabre//Sabre VObject 4.5.8//EN
CALSCALE:GREGORIAN
BEGIN:VEVENT
UID:sabre-vobject-ba2147d8-dd8a-4906-b48e-2df70f3bd3c8
DTSTAMP:20260421T021047Z
SUMMARY:2023 INDEPENDENCE DAY CELEBRATION
DESCRIPTION:@ Yano Field\, Camp Zama\n\nOPEN POST EVENT / 基地開放イ
 ベント\n
X-ALT-DESC:FMTTYPE=text/html:<!DOCTYPE HTML PUBLIC "-//W3C//DTD HTML 3.2//E
 N"><HTML><p>@ Yano Field\, Camp Zama</p>\n\n<h3><strong>OPEN POST EVENT / 
 基地開放イベント</strong></h3>\n</HTML>
CREATED;TZID=Asia/Tokyo:20230628T111007
URL;VALUE=URI:https://zama.armymwr.com/calendar/event
DTSTART;TZID=Asia/Tokyo:20230701T150000
DTEND;TZID=Asia/Tokyo:20230701T210000
SEQUENCE:0
END:VEVENT
END:VCALENDAR
