BEGIN:VCALENDAR
VERSION:2.0
PRODID:-//Sabre//Sabre VObject 4.5.8//EN
CALSCALE:GREGORIAN
BEGIN:VEVENT
UID:sabre-vobject-d81baa80-0efd-415d-8c4e-65a6942003c9
DTSTAMP:20260420T143239Z
SUMMARY:Mt. Fuji - Walking Stick Making Workshop
DESCRIPTION:@ Arts &amp\; Crafts Center Wood Shop\n
X-ALT-DESC:FMTTYPE=text/html:<!DOCTYPE HTML PUBLIC "-//W3C//DTD HTML 3.2//E
 N"><HTML><p>@ Arts &amp\; Crafts Center Wood Shop</p>\n</HTML>
CREATED;TZID=Asia/Tokyo:20230605T101223
URL;VALUE=URI:https://zama.armymwr.com/calendar/event
DTSTART;TZID=Asia/Tokyo:20230610T093000
DTEND;TZID=Asia/Tokyo:20230610T153000
SEQUENCE:0
END:VEVENT
BEGIN:VEVENT
UID:sabre-vobject-d1ca2015-04b4-468b-b1d9-ab6c2878ac04
DTSTAMP:20260420T143239Z
SUMMARY:Mt. Fuji - Walking Stick Making Workshop
DESCRIPTION:@ Arts &amp\; Crafts Center Wood Shop\n
X-ALT-DESC:FMTTYPE=text/html:<!DOCTYPE HTML PUBLIC "-//W3C//DTD HTML 3.2//E
 N"><HTML><p>@ Arts &amp\; Crafts Center Wood Shop</p>\n</HTML>
CREATED;TZID=Asia/Tokyo:20230605T101223
URL;VALUE=URI:https://zama.armymwr.com/calendar/event
DTSTART;TZID=Asia/Tokyo:20230715T093000
DTEND;TZID=Asia/Tokyo:20230715T153000
SEQUENCE:1
END:VEVENT
END:VCALENDAR
