BEGIN:VCALENDAR
VERSION:2.0
PRODID:-//Sabre//Sabre VObject 4.5.8//EN
CALSCALE:GREGORIAN
BEGIN:VEVENT
UID:sabre-vobject-f521bf7a-8769-4e65-9453-5d54dd8ec80b
DTSTAMP:20260419T193127Z
SUMMARY:ACS Play Group
DESCRIPTION:New Parent Support Program @ SHA Library\n
X-ALT-DESC:FMTTYPE=text/html:<!DOCTYPE HTML PUBLIC "-//W3C//DTD HTML 3.2//E
 N"><HTML><p>New Parent Support Program @ SHA Library</p>\n</HTML>
CREATED;TZID=Asia/Tokyo:20230605T112708
URL;VALUE=URI:https://zama.armymwr.com/calendar/event
DTSTART;TZID=Asia/Tokyo:20230718T100000
DTEND;TZID=Asia/Tokyo:20230718T113000
SEQUENCE:0
END:VEVENT
BEGIN:VEVENT
UID:sabre-vobject-23eaeb9d-8a61-4c8d-8e84-3dc2fd8d54ab
DTSTAMP:20260419T193127Z
SUMMARY:ACS Play Group
DESCRIPTION:New Parent Support Program @ SHA Library\n
X-ALT-DESC:FMTTYPE=text/html:<!DOCTYPE HTML PUBLIC "-//W3C//DTD HTML 3.2//E
 N"><HTML><p>New Parent Support Program @ SHA Library</p>\n</HTML>
CREATED;TZID=Asia/Tokyo:20230605T112708
URL;VALUE=URI:https://zama.armymwr.com/calendar/event
DTSTART;TZID=Asia/Tokyo:20230801T100000
DTEND;TZID=Asia/Tokyo:20230801T113000
SEQUENCE:1
END:VEVENT
BEGIN:VEVENT
UID:sabre-vobject-c0e2d179-0bc0-4080-9e5f-48b299a5a441
DTSTAMP:20260419T193127Z
SUMMARY:ACS Play Group
DESCRIPTION:New Parent Support Program @ SHA Library\n
X-ALT-DESC:FMTTYPE=text/html:<!DOCTYPE HTML PUBLIC "-//W3C//DTD HTML 3.2//E
 N"><HTML><p>New Parent Support Program @ SHA Library</p>\n</HTML>
CREATED;TZID=Asia/Tokyo:20230605T112708
URL;VALUE=URI:https://zama.armymwr.com/calendar/event
DTSTART;TZID=Asia/Tokyo:20230815T100000
DTEND;TZID=Asia/Tokyo:20230815T113000
SEQUENCE:2
END:VEVENT
END:VCALENDAR
