BEGIN:VCALENDAR
VERSION:2.0
PRODID:-//Sabre//Sabre VObject 4.5.8//EN
CALSCALE:GREGORIAN
BEGIN:VEVENT
UID:sabre-vobject-6db787b5-9b93-4f12-8c9e-3fe0e6e5f622
DTSTAMP:20260425T153429Z
SUMMARY:Father's Day Special!
DESCRIPTION:@ Zama Bowling Center\n
X-ALT-DESC:FMTTYPE=text/html:<!DOCTYPE HTML PUBLIC "-//W3C//DTD HTML 3.2//E
 N"><HTML><p>@ Zama Bowling Center</p>\n</HTML>
CREATED;TZID=Asia/Tokyo:20230613T101730
URL;VALUE=URI:https://zama.armymwr.com/calendar/event
DTSTART;TZID=Asia/Tokyo:20230618T000000
DTEND;TZID=Asia/Tokyo:20230618T235959
SEQUENCE:0
END:VEVENT
END:VCALENDAR
